BEGIN:VCALENDAR
VERSION:2.0
PRODID:-//hier&amp;jetzt - ECPv6.15.20//NONSGML v1.0//EN
CALSCALE:GREGORIAN
METHOD:PUBLISH
X-WR-CALNAME:hier&amp;jetzt
X-ORIGINAL-URL:https://www.hier-und.jetzt
X-WR-CALDESC:Veranstaltungen für hier&amp;jetzt
REFRESH-INTERVAL;VALUE=DURATION:PT1H
X-Robots-Tag:noindex
X-PUBLISHED-TTL:PT1H
BEGIN:VTIMEZONE
TZID:Europe/Vienna
BEGIN:DAYLIGHT
TZOFFSETFROM:+0100
TZOFFSETTO:+0200
TZNAME:CEST
DTSTART:20240331T010000
END:DAYLIGHT
BEGIN:STANDARD
TZOFFSETFROM:+0200
TZOFFSETTO:+0100
TZNAME:CET
DTSTART:20241027T010000
END:STANDARD
BEGIN:DAYLIGHT
TZOFFSETFROM:+0100
TZOFFSETTO:+0200
TZNAME:CEST
DTSTART:20250330T010000
END:DAYLIGHT
BEGIN:STANDARD
TZOFFSETFROM:+0200
TZOFFSETTO:+0100
TZNAME:CET
DTSTART:20251026T010000
END:STANDARD
BEGIN:DAYLIGHT
TZOFFSETFROM:+0100
TZOFFSETTO:+0200
TZNAME:CEST
DTSTART:20260329T010000
END:DAYLIGHT
BEGIN:STANDARD
TZOFFSETFROM:+0200
TZOFFSETTO:+0100
TZNAME:CET
DTSTART:20261025T010000
END:STANDARD
END:VTIMEZONE
BEGIN:VEVENT
DTSTART;TZID=Europe/Vienna:20251024T000000
DTEND;TZID=Europe/Vienna:20251028T235959
DTSTAMP:20260425T122259
CREATED:20250114T105141Z
LAST-MODIFIED:20250413T165125Z
UID:323-1761264000-1761695999@www.hier-und.jetzt
SUMMARY:Kompetenzen in Gruppen\, Teams und Organisationen
DESCRIPTION:Skill-Training – Teamkompetenz\n\n\n\n\n\nIn diesem Seminar werden bewusst Funktionswechsel geübt. Dies ermöglichteine vertiefte Sicht auf Grenzen und Möglichkeiten der eigenen Wirksamkeitin Gruppen und Teams. Neue Herangehensweisen können erprobt werden\,praktische Fähigkeiten für die Arbeit in Organisationen werden (weiter) entwickelt.In diesem Skill-Training werden Sie:• sich als Teilnehmer*in im Gruppenprozess erleben\, wiederkehrende und neue Gruppenkonstellationen aktiv beeinflussen und mit anderen in Beziehung treten.• in der Funktion des*der Beobachtenden den Prozess aus einer außenstehenden Perspektive begleiten und analysieren\, während theoretische Bezüge hergestellt werden.• als Leiter*in eine Gruppeneinheit planen\, durchführen und die Wirksamkeit eigener Interventionen erleben.Folder\nFolder \n\n\n\nFolder Pdf\n\n\n\n\n\n\n\nOrt Bildungshaus St. Hippolyt\, Eybnerstraße 5\, 3100 St. PöltenKosten € 760Anmeldung kontakt@hier-und.jetzt bis 29. September 2025\n \n\n\n\n\nStaff:Gwendolin Eckert: Gruppendynamiktrainerin\, Lehrtherapeutin DynamischeGruppenpsychotherapiePeter Ettl: Gruppendynamiktrainer\, UnternehmensberaterBenedikt-Lars Kaiser: Lehrtherapeut Dynamische Gruppenpsychotherapie\, GruppendynamikerChristine Pechtl: Lehrtherapeutin Dynamische Gruppenpsychotherapie\, Lehrende fürBioenergetische Analyse\, Supervisorin
URL:https://www.hier-und.jetzt/termine/kompetenzen-in-gruppen-teams-und-organisationen/
END:VEVENT
END:VCALENDAR