BEGIN:VCALENDAR
VERSION:2.0
PRODID:-//hier&amp;jetzt - ECPv6.15.20//NONSGML v1.0//EN
CALSCALE:GREGORIAN
METHOD:PUBLISH
X-ORIGINAL-URL:https://www.hier-und.jetzt
X-WR-CALDESC:Veranstaltungen für hier&amp;jetzt
REFRESH-INTERVAL;VALUE=DURATION:PT1H
X-Robots-Tag:noindex
X-PUBLISHED-TTL:PT1H
BEGIN:VTIMEZONE
TZID:Europe/Vienna
BEGIN:DAYLIGHT
TZOFFSETFROM:+0100
TZOFFSETTO:+0200
TZNAME:CEST
DTSTART:20240331T010000
END:DAYLIGHT
BEGIN:STANDARD
TZOFFSETFROM:+0200
TZOFFSETTO:+0100
TZNAME:CET
DTSTART:20241027T010000
END:STANDARD
BEGIN:DAYLIGHT
TZOFFSETFROM:+0100
TZOFFSETTO:+0200
TZNAME:CEST
DTSTART:20250330T010000
END:DAYLIGHT
BEGIN:STANDARD
TZOFFSETFROM:+0200
TZOFFSETTO:+0100
TZNAME:CET
DTSTART:20251026T010000
END:STANDARD
BEGIN:DAYLIGHT
TZOFFSETFROM:+0100
TZOFFSETTO:+0200
TZNAME:CEST
DTSTART:20260329T010000
END:DAYLIGHT
BEGIN:STANDARD
TZOFFSETFROM:+0200
TZOFFSETTO:+0100
TZNAME:CET
DTSTART:20261025T010000
END:STANDARD
END:VTIMEZONE
BEGIN:VEVENT
DTSTART;TZID=Europe/Vienna:20250313T000000
DTEND;TZID=Europe/Vienna:20250315T235959
DTSTAMP:20260426T012530
CREATED:20250105T183739Z
LAST-MODIFIED:20250202T160055Z
UID:204-1741824000-1742083199@www.hier-und.jetzt
SUMMARY:Gender\, Sex\, Desire
DESCRIPTION:Gruppendynamisches Seminar \n\n\n\n\n\nSoziales Geschlecht\, Sexualität und Begehren prägen Körper\, Psyche und Beziehungen.Im Seminar erkunden wir Geschlechterrollen\, Stereotype und gesellschaftliche Konstruktionen von Geschlecht in verschiedenen Kontexten. Durch Übungen (allein und in der Gruppe) und Reflexion werden persönliche Haltungen\, vermeintliche (Un-) Sicherheiten und neue Perspektiven sichtbar.Eine Gelegenheit\, das eigene Verständnis von Identität und Menschsein zu vertiefen.13. – 15. März 2025Linz€ 360\,- USt.-freiAnmeldung bis 24. Februar 2025: kontakt@treibgud.atTrainer*innen Gerald Bacher: Lehrender für Bioenergetische Analyse (DÖK)\,Gruppendynamiktrainer (ÖAGG)\, Supervisor (ÖVS)Gudrun Treibenreif: Lehrende für Bioenergetische Analyse (DÖK)\,Gruppendynamiktrainerin (ÖAGG)\, Supervisorin (ÖVS)\, Mediatorin
URL:https://www.hier-und.jetzt/termine/gender-sex-desire-und-was-geht-uns-das-an/
END:VEVENT
END:VCALENDAR